BEGIN:VCALENDAR
VERSION:2.0
PRODID:-//The Understudy - ECPv6.15.15//NONSGML v1.0//EN
CALSCALE:GREGORIAN
METHOD:PUBLISH
X-ORIGINAL-URL:https://theunderstudy.com
X-WR-CALDESC:Events for The Understudy
REFRESH-INTERVAL;VALUE=DURATION:PT1H
X-Robots-Tag:noindex
X-PUBLISHED-TTL:PT1H
BEGIN:VTIMEZONE
TZID:America/Chicago
BEGIN:DAYLIGHT
TZOFFSETFROM:-0600
TZOFFSETTO:-0500
TZNAME:CDT
DTSTART:20240310T080000
END:DAYLIGHT
BEGIN:STANDARD
TZOFFSETFROM:-0500
TZOFFSETTO:-0600
TZNAME:CST
DTSTART:20241103T070000
END:STANDARD
BEGIN:DAYLIGHT
TZOFFSETFROM:-0600
TZOFFSETTO:-0500
TZNAME:CDT
DTSTART:20250309T080000
END:DAYLIGHT
BEGIN:STANDARD
TZOFFSETFROM:-0500
TZOFFSETTO:-0600
TZNAME:CST
DTSTART:20251102T070000
END:STANDARD
BEGIN:DAYLIGHT
TZOFFSETFROM:-0600
TZOFFSETTO:-0500
TZNAME:CDT
DTSTART:20260308T080000
END:DAYLIGHT
BEGIN:STANDARD
TZOFFSETFROM:-0500
TZOFFSETTO:-0600
TZNAME:CST
DTSTART:20261101T070000
END:STANDARD
END:VTIMEZONE
BEGIN:VEVENT
DTSTART;TZID=America/Chicago:20251026T190000
DTEND;TZID=America/Chicago:20251026T210000
DTSTAMP:20260421T151404
CREATED:20251008T225600Z
LAST-MODIFIED:20251025T234047Z
UID:10000201-1761505200-1761512400@theunderstudy.com
SUMMARY:BLITHE SPIRIT by Noel Coward
DESCRIPTION:Catch Noel Coward’s  “improbable farce in three acts” at The Understudy\n\n\nExit\, Pursued by a Play Reading is a new reading series where Chicago’s best and most beloved actors find themselves chased by rabid\, unrehearsed\, theatrical comedies – desperately trying to stay ahead\, as they strive to tickle your fancy\, brighten your heart\, and warm the chilliest of Chicago evenings. \nThis time\, we’re reading Blithe Spirit by Noel Coward \n \nEdith: Ali Foley \nRuth : Jaeda LaVonne \nCharles : Gregory Linington \nDr. Bradman : Demetrios Troy \nMrs. Bradman : Blair Robertson \nMadame Arcati : Issy van Randwyck \nElvira : Katy Sullivan \nStage Directions : Noah Tibbetts
URL:https://theunderstudy.com/event/blithe-spirit-by-noel-coward/
LOCATION:The Understudy Coffee and Books\, 5531 N Clark St\, Chicago\, IL\, 60640\, United States
ATTACH;FMTTYPE=image/jpeg:https://theunderstudy.com/wp-content/uploads/2025/10/ad08d342653d4a6781a8ef0c111f4f18-V8X4d3.tmp_.jpg
END:VEVENT
END:VCALENDAR