BEGIN:VCALENDAR
VERSION:2.0
PRODID:-//The Understudy - ECPv6.15.15//NONSGML v1.0//EN
CALSCALE:GREGORIAN
METHOD:PUBLISH
X-WR-CALNAME:The Understudy
X-ORIGINAL-URL:https://theunderstudy.com
X-WR-CALDESC:Events for The Understudy
REFRESH-INTERVAL;VALUE=DURATION:PT1H
X-Robots-Tag:noindex
X-PUBLISHED-TTL:PT1H
BEGIN:VTIMEZONE
TZID:America/Chicago
BEGIN:DAYLIGHT
TZOFFSETFROM:-0600
TZOFFSETTO:-0500
TZNAME:CDT
DTSTART:20240310T080000
END:DAYLIGHT
BEGIN:STANDARD
TZOFFSETFROM:-0500
TZOFFSETTO:-0600
TZNAME:CST
DTSTART:20241103T070000
END:STANDARD
BEGIN:DAYLIGHT
TZOFFSETFROM:-0600
TZOFFSETTO:-0500
TZNAME:CDT
DTSTART:20250309T080000
END:DAYLIGHT
BEGIN:STANDARD
TZOFFSETFROM:-0500
TZOFFSETTO:-0600
TZNAME:CST
DTSTART:20251102T070000
END:STANDARD
BEGIN:DAYLIGHT
TZOFFSETFROM:-0600
TZOFFSETTO:-0500
TZNAME:CDT
DTSTART:20260308T080000
END:DAYLIGHT
BEGIN:STANDARD
TZOFFSETFROM:-0500
TZOFFSETTO:-0600
TZNAME:CST
DTSTART:20261101T070000
END:STANDARD
END:VTIMEZONE
BEGIN:VEVENT
DTSTART;TZID=America/Chicago:20251029T193000
DTEND;TZID=America/Chicago:20251029T220000
DTSTAMP:20260421T151226
CREATED:20251013T231054Z
LAST-MODIFIED:20251029T184612Z
UID:10000202-1761766200-1761775200@theunderstudy.com
SUMMARY:KAPWA II: Shake\, Rattle and Roll (18+)
DESCRIPTION:A ~sp0okY~ Filipinx variety show produced by The Understudy and The Rizal Center.\n\n\nWho says the sequel isn’t as good? October is Filipino-American History Month\, and the KAPWA Variety Show is back with more killer performances from local Fil-Am artists. Join us as we celebrate community in times of fear with scary good food\, songs\, storytelling\, MAGIC\, burlesque\, and more! Stay tuned for the Line-up~ \n\n\nHalf of all ticket sales will benefit the Rizal Center’s Balikbayan Book Club\, which educates and empowers readers through the stories of Filipino writers. The group is a space to connect\, discuss\, and learn more about the Philippines’ history of resistance. By critically engaging with the past\, they encourage each other to build a better future.
URL:https://theunderstudy.com/event/kapwa-ii-shake-rattle-and-roll-18/
LOCATION:The Understudy Coffee and Books\, 5531 N Clark St\, Chicago\, IL\, 60640\, United States
ATTACH;FMTTYPE=image/jpeg:https://theunderstudy.com/wp-content/uploads/2025/10/7874295f78c228b253ec0223215b16bc-vNYomd.tmp_.jpg
END:VEVENT
END:VCALENDAR