BEGIN:VCALENDAR
VERSION:2.0
PRODID:-//The Understudy - ECPv6.15.15//NONSGML v1.0//EN
CALSCALE:GREGORIAN
METHOD:PUBLISH
X-ORIGINAL-URL:https://theunderstudy.com
X-WR-CALDESC:Events for The Understudy
REFRESH-INTERVAL;VALUE=DURATION:PT1H
X-Robots-Tag:noindex
X-PUBLISHED-TTL:PT1H
BEGIN:VTIMEZONE
TZID:America/Chicago
BEGIN:DAYLIGHT
TZOFFSETFROM:-0600
TZOFFSETTO:-0500
TZNAME:CDT
DTSTART:20250309T080000
END:DAYLIGHT
BEGIN:STANDARD
TZOFFSETFROM:-0500
TZOFFSETTO:-0600
TZNAME:CST
DTSTART:20251102T070000
END:STANDARD
BEGIN:DAYLIGHT
TZOFFSETFROM:-0600
TZOFFSETTO:-0500
TZNAME:CDT
DTSTART:20260308T080000
END:DAYLIGHT
BEGIN:STANDARD
TZOFFSETFROM:-0500
TZOFFSETTO:-0600
TZNAME:CST
DTSTART:20261101T070000
END:STANDARD
BEGIN:DAYLIGHT
TZOFFSETFROM:-0600
TZOFFSETTO:-0500
TZNAME:CDT
DTSTART:20270314T080000
END:DAYLIGHT
BEGIN:STANDARD
TZOFFSETFROM:-0500
TZOFFSETTO:-0600
TZNAME:CST
DTSTART:20271107T070000
END:STANDARD
END:VTIMEZONE
BEGIN:VEVENT
DTSTART;TZID=America/Chicago:20260202T193000
DTEND;TZID=America/Chicago:20260202T210000
DTSTAMP:20260421T102908
CREATED:20260202T182024Z
LAST-MODIFIED:20260202T183352Z
UID:10000205-1770060600-1770066000@theunderstudy.com
SUMMARY:A Conversation with Shanésia Davis: Nine Questions
DESCRIPTION:Enjoy a conversation with editor Shanésia Davis on her book Nine questions every actor of color should consider when tokenism is not enough\n\n\nCome join us for a reading and a facilitated discussion on Nine questions every actor of color should consider when tokenism is not enough with Shanésia Davis! \nThis is a free event. Doors open at 7P\, discussion starts at 7:30. There will be copies of the book available for sale. \n \nABOUT THE BOOK\nThis book confronts and analyzes the systemic racism that confronts actors of color in the USA through interviews with leading performers in the nation’s theatrical epicentre of Chicago. \nEach chapter deals with a different central question\, from how these actors approach roles and the obstacles that they face\, to the ways in which the industry can change to better enable actors of color. By bringing together these actors and sharing the ways in which they have functioned within the white theatre world\, we can appreciate how theatre needs to embrace their identities so that all voices are heard\, understood\, and valued. The stories of these actors will reflect the systemic racism of the past and present with the hope of remaking the future. \nThis is an important book for students\, teachers\, and professionals who engage in theatre work\, helping them to understand the lived experiences of actors of color through those actors’ own words. \n \nABOUT THE AUTHOR\nShanésia Davis is an Assistant Teaching Professor of Acting at the Chicago College of Performing Arts at Roosevelt University\, USA. Ms. Davis is also an award-winning stage\, television\, and film actor based in Chicago.
URL:https://theunderstudy.com/event/a-conversation-with-shanesia-davis-nine-questions/
LOCATION:The Understudy Coffee and Books\, 5531 N Clark St\, Chicago\, IL\, 60640\, United States
ATTACH;FMTTYPE=image/jpeg:https://theunderstudy.com/wp-content/uploads/2026/02/sarah-4.jpg
END:VEVENT
END:VCALENDAR