BEGIN:VCALENDAR
VERSION:2.0
PRODID:-//The Understudy - ECPv6.15.15//NONSGML v1.0//EN
CALSCALE:GREGORIAN
METHOD:PUBLISH
X-ORIGINAL-URL:https://theunderstudy.com
X-WR-CALDESC:Events for The Understudy
REFRESH-INTERVAL;VALUE=DURATION:PT1H
X-Robots-Tag:noindex
X-PUBLISHED-TTL:PT1H
BEGIN:VTIMEZONE
TZID:America/Chicago
BEGIN:DAYLIGHT
TZOFFSETFROM:-0600
TZOFFSETTO:-0500
TZNAME:CDT
DTSTART:20250309T080000
END:DAYLIGHT
BEGIN:STANDARD
TZOFFSETFROM:-0500
TZOFFSETTO:-0600
TZNAME:CST
DTSTART:20251102T070000
END:STANDARD
BEGIN:DAYLIGHT
TZOFFSETFROM:-0600
TZOFFSETTO:-0500
TZNAME:CDT
DTSTART:20260308T080000
END:DAYLIGHT
BEGIN:STANDARD
TZOFFSETFROM:-0500
TZOFFSETTO:-0600
TZNAME:CST
DTSTART:20261101T070000
END:STANDARD
BEGIN:DAYLIGHT
TZOFFSETFROM:-0600
TZOFFSETTO:-0500
TZNAME:CDT
DTSTART:20270314T080000
END:DAYLIGHT
BEGIN:STANDARD
TZOFFSETFROM:-0500
TZOFFSETTO:-0600
TZNAME:CST
DTSTART:20271107T070000
END:STANDARD
END:VTIMEZONE
BEGIN:VEVENT
DTSTART;TZID=America/Chicago:20260212T193000
DTEND;TZID=America/Chicago:20260212T220000
DTSTAMP:20260421T102917
CREATED:20260202T182031Z
LAST-MODIFIED:20260212T191112Z
UID:10000211-1770924600-1770933600@theunderstudy.com
SUMMARY:The Nosy Bitch: A Live Advice Show
DESCRIPTION:For all the queers in the Chicagoland area that need some advice or for the chismosas that wanna listen to some hot goss – come through!\n\n\nare you a queer and/or trans in chicago with oodles of issues that your friends are tired of hearing about? has your therapist given up on you? is posting on lex proving to be just yelling into the void? baby\, the nosy bitch himself\, mitch mitchell\, host extraordinaire\, and a special guest are here to save the day! \nwe tackle issues of all sorts! beefing with your roomie sock who refuses to do the dishes? are your thirteen cats just not getting along? is the ex of your ex’s ex-sister telling your current partner’s nesting partner’s bf that one time you stole five dollars out of xir purse at super sapphic? do you just want to see how messy the queer community of chicago is because you’re also a nosy bitch? THE NOSY BITCH is the show for you! \nsubmit your queer-y here or ask live at the show! \n \nTickets are pay-what-you-can at the door~ \n \nMASKS ARE REQUIRED
URL:https://theunderstudy.com/event/the-nosy-bitch-a-live-advice-show/
LOCATION:The Understudy Coffee and Books\, 5531 N Clark St\, Chicago\, IL\, 60640\, United States
ATTACH;FMTTYPE=image/jpeg:https://theunderstudy.com/wp-content/uploads/2026/02/a95e0548529180296bfc37256d72fc88-LkqXfU.tmp_.jpg
END:VEVENT
END:VCALENDAR