BEGIN:VCALENDAR
VERSION:2.0
PRODID:-//The Understudy - ECPv6.15.15//NONSGML v1.0//EN
CALSCALE:GREGORIAN
METHOD:PUBLISH
X-ORIGINAL-URL:https://theunderstudy.com
X-WR-CALDESC:Events for The Understudy
REFRESH-INTERVAL;VALUE=DURATION:PT1H
X-Robots-Tag:noindex
X-PUBLISHED-TTL:PT1H
BEGIN:VTIMEZONE
TZID:America/Chicago
BEGIN:DAYLIGHT
TZOFFSETFROM:-0600
TZOFFSETTO:-0500
TZNAME:CDT
DTSTART:20250309T080000
END:DAYLIGHT
BEGIN:STANDARD
TZOFFSETFROM:-0500
TZOFFSETTO:-0600
TZNAME:CST
DTSTART:20251102T070000
END:STANDARD
BEGIN:DAYLIGHT
TZOFFSETFROM:-0600
TZOFFSETTO:-0500
TZNAME:CDT
DTSTART:20260308T080000
END:DAYLIGHT
BEGIN:STANDARD
TZOFFSETFROM:-0500
TZOFFSETTO:-0600
TZNAME:CST
DTSTART:20261101T070000
END:STANDARD
BEGIN:DAYLIGHT
TZOFFSETFROM:-0600
TZOFFSETTO:-0500
TZNAME:CDT
DTSTART:20270314T080000
END:DAYLIGHT
BEGIN:STANDARD
TZOFFSETFROM:-0500
TZOFFSETTO:-0600
TZNAME:CST
DTSTART:20271107T070000
END:STANDARD
END:VTIMEZONE
BEGIN:VEVENT
DTSTART;TZID=America/Chicago:20260222T190000
DTEND;TZID=America/Chicago:20260222T203000
DTSTAMP:20260421T102624
CREATED:20260202T182030Z
LAST-MODIFIED:20260222T192600Z
UID:10000215-1771786800-1771792200@theunderstudy.com
SUMMARY:February Lobo-lit Book Club: Palaver by Bryan Washington
DESCRIPTION:A monthly book club in collaboration with Pizza Lobo. Those who show their book at the bar will get a free 10″ pizza!
URL:https://theunderstudy.com/event/february-lobo-lit-book-club-palaver-by-bryan-washington/
LOCATION:Pizza Lobo-Andersonville\, 5457 North Clark Street\, Chicago\, IL\, 60640\, United States
ATTACH;FMTTYPE=image/jpeg:https://theunderstudy.com/wp-content/uploads/2026/02/833ad8a80a9244cd67bfe468d50643bb-yh8ZX7.tmp_.jpg
END:VEVENT
END:VCALENDAR