BEGIN:VCALENDAR
VERSION:2.0
PRODID:-//The Understudy - ECPv6.15.15//NONSGML v1.0//EN
CALSCALE:GREGORIAN
METHOD:PUBLISH
X-ORIGINAL-URL:https://theunderstudy.com
X-WR-CALDESC:Events for The Understudy
REFRESH-INTERVAL;VALUE=DURATION:PT1H
X-Robots-Tag:noindex
X-PUBLISHED-TTL:PT1H
BEGIN:VTIMEZONE
TZID:America/Chicago
BEGIN:DAYLIGHT
TZOFFSETFROM:-0600
TZOFFSETTO:-0500
TZNAME:CDT
DTSTART:20250309T080000
END:DAYLIGHT
BEGIN:STANDARD
TZOFFSETFROM:-0500
TZOFFSETTO:-0600
TZNAME:CST
DTSTART:20251102T070000
END:STANDARD
BEGIN:DAYLIGHT
TZOFFSETFROM:-0600
TZOFFSETTO:-0500
TZNAME:CDT
DTSTART:20260308T080000
END:DAYLIGHT
BEGIN:STANDARD
TZOFFSETFROM:-0500
TZOFFSETTO:-0600
TZNAME:CST
DTSTART:20261101T070000
END:STANDARD
BEGIN:DAYLIGHT
TZOFFSETFROM:-0600
TZOFFSETTO:-0500
TZNAME:CDT
DTSTART:20270314T080000
END:DAYLIGHT
BEGIN:STANDARD
TZOFFSETFROM:-0500
TZOFFSETTO:-0600
TZNAME:CST
DTSTART:20271107T070000
END:STANDARD
END:VTIMEZONE
BEGIN:VEVENT
DTSTART;TZID=America/Chicago:20260224T190000
DTEND;TZID=America/Chicago:20260224T210000
DTSTAMP:20260421T102922
CREATED:20260206T184130Z
LAST-MODIFIED:20260224T192618Z
UID:10000225-1771959600-1771966800@theunderstudy.com
SUMMARY:Dramaturgy Mixer with LMDA Chicago
DESCRIPTION:Come join us for a discussion and mixer hosted by Yasmin Mikhaiel and Maren Robinson of LMDA Chicago!\n\n\nCalling all Chicago dramaturgs! Join LMDA for a mixer at The Understudy. Join VP of Freelance Yasmin Zacaria Mikhaiel and Chicago Regional VP Maren Robinson for an interactive conversation on the state of Chicago dramaturgy. You’ll learn about resources and opportunities compiled by the Literary Managers & Dramaturgs of the Americas and connect with fellow dramaturgs desiring more collaborative spaces. \n  \nLet’s gather to chat about how we show up for each other whether we’re currently in rehearsals or not! The night begins with a facilitated conversation and then transitions to an open chat space for you to meet and greet dramaturgs from across Chicago. \n  \nRSVP for free! \n  \nMeet Your Hosts: \nYasmin Zacaria Mikhaiel (she/they) is a Chicago-based dramaturg\, arts journalist\, and creative producer. She currently serves as VP of Freelance for LMDA. Their dramaturgy centers care work and their theatre reporting and research explores possibility models for the future of theatremaking and writing that is reflexive\, culturally competent\, and sustainable. She is an alum and current faculty of The Theatre School at DePaul University. In 2025/2026 she has been awarded two arts journalism fellowships\, one with Art and Public Life’s Chicago Critics Table at UChicago and the other as a Rising Leader of Color with Theatre Communications Group. \n  \nMaren Robinson (she/her) is a dramaturg and educator who has worked on nearly 60 productions including 18 new works. She is particularly interested in new work\, science on stage\, civic conversations and the potential of embodied dramaturgy outside of theater. Maren is Resident Dramaturg and a Company Member at TimeLine Theatre. She is also a lecturer at The Theatre School at DePaul University\, Associate Director of the Master of Arts Program in Humanities at the University of Chicago and serves as the Chicago Metro VP  of the Literary Managers and Dramaturgs of the Americas. \n  \nAbout LMDA: \nLiterary Managers and Dramaturgs of the Americas was founded in 1985 as the volunteer membership organization for the professions of literary management and dramaturgy. LMDA holds the belief that theater is a vital art form that has the power to nourish\, educate\, and transform individuals and their communities and that dramaturgy is central to the process of theater-making. \n 
URL:https://theunderstudy.com/event/dramaturgy-mixer-with-lmda-chicago/
LOCATION:The Understudy Coffee and Books\, 5531 N Clark St\, Chicago\, IL\, 60640\, United States
ATTACH;FMTTYPE=image/jpeg:https://theunderstudy.com/wp-content/uploads/2026/02/8b625f64e900525b8f95e48a7b5ed82e-vFxdIv.tmp_.jpg
END:VEVENT
END:VCALENDAR