BEGIN:VCALENDAR
VERSION:2.0
PRODID:-//The Understudy - ECPv6.15.15//NONSGML v1.0//EN
CALSCALE:GREGORIAN
METHOD:PUBLISH
X-WR-CALNAME:The Understudy
X-ORIGINAL-URL:https://theunderstudy.com
X-WR-CALDESC:Events for The Understudy
REFRESH-INTERVAL;VALUE=DURATION:PT1H
X-Robots-Tag:noindex
X-PUBLISHED-TTL:PT1H
BEGIN:VTIMEZONE
TZID:America/Chicago
BEGIN:DAYLIGHT
TZOFFSETFROM:-0600
TZOFFSETTO:-0500
TZNAME:CDT
DTSTART:20250309T080000
END:DAYLIGHT
BEGIN:STANDARD
TZOFFSETFROM:-0500
TZOFFSETTO:-0600
TZNAME:CST
DTSTART:20251102T070000
END:STANDARD
BEGIN:DAYLIGHT
TZOFFSETFROM:-0600
TZOFFSETTO:-0500
TZNAME:CDT
DTSTART:20260308T080000
END:DAYLIGHT
BEGIN:STANDARD
TZOFFSETFROM:-0500
TZOFFSETTO:-0600
TZNAME:CST
DTSTART:20261101T070000
END:STANDARD
BEGIN:DAYLIGHT
TZOFFSETFROM:-0600
TZOFFSETTO:-0500
TZNAME:CDT
DTSTART:20270314T080000
END:DAYLIGHT
BEGIN:STANDARD
TZOFFSETFROM:-0500
TZOFFSETTO:-0600
TZNAME:CST
DTSTART:20271107T070000
END:STANDARD
END:VTIMEZONE
BEGIN:VEVENT
DTSTART;TZID=America/Chicago:20260302T200000
DTEND;TZID=America/Chicago:20260302T213000
DTSTAMP:20260421T102403
CREATED:20260202T182049Z
LAST-MODIFIED:20260302T194054Z
UID:10000216-1772481600-1772487000@theunderstudy.com
SUMMARY:the un-blessed | a poetry reading // solo show | by elena victoria feliz
DESCRIPTION:if the bible were a movie\, this piece is about the extras.\n\n\nABOUT\nthe un-blessed is a biblical reimagining. if the bible were a movie\, this piece is about the extras. what does it mean to know that world defining events are happening around you\, and you exist in the margins\, that you are not among the chosen? does it make you angry? do you give up? do you try anyway – even if you doubt there is a god who believes in you? in the face of despair\, disaster\, war\, miracles (or their absence)\, and the fear of being forgotten after we are gone\, the un-blessed is a poetic exploration of the human capacity for hope. \n \nA BRIEF EXCERPT\nblessed are those who are collateral in the stories of those we think we know\, \nthe martyrs in the margins \nfor the world was built on their backs \ntheir hearts are sacred too \n \nblessed are the forgotten\, for they shall inherit the imagination of those who care enough to try \n \nCONTENT ADVISORY\nThis piece contains mature themes and is recommended for mature audiences (17+). A more detailed content advisory is available upon request at the time of the event. \n \nIMPACT CAMPAIGN\nAll ticket proceeds will be donated to Ele Elna Ewak – an emergency relief organization on the ground in Gaza\, supporting Palestinian communities amidst the genocide\, with a focus on restoring clean drinking water.
URL:https://theunderstudy.com/event/the-un-blessed-a-poetry-reading-solo-show-by-elena-victoria-feliz-3/
LOCATION:The Understudy Coffee and Books\, 5531 N Clark St\, Chicago\, IL\, 60640\, United States
ATTACH;FMTTYPE=image/jpeg:https://theunderstudy.com/wp-content/uploads/2026/02/f891f43acf6ab09dce9151218d91be96-DoK3AK.tmp_.jpg
END:VEVENT
END:VCALENDAR