BEGIN:VCALENDAR
VERSION:2.0
PRODID:-//The Understudy - ECPv6.15.15//NONSGML v1.0//EN
CALSCALE:GREGORIAN
METHOD:PUBLISH
X-ORIGINAL-URL:https://theunderstudy.com
X-WR-CALDESC:Events for The Understudy
REFRESH-INTERVAL;VALUE=DURATION:PT1H
X-Robots-Tag:noindex
X-PUBLISHED-TTL:PT1H
BEGIN:VTIMEZONE
TZID:America/Chicago
BEGIN:DAYLIGHT
TZOFFSETFROM:-0600
TZOFFSETTO:-0500
TZNAME:CDT
DTSTART:20250309T080000
END:DAYLIGHT
BEGIN:STANDARD
TZOFFSETFROM:-0500
TZOFFSETTO:-0600
TZNAME:CST
DTSTART:20251102T070000
END:STANDARD
BEGIN:DAYLIGHT
TZOFFSETFROM:-0600
TZOFFSETTO:-0500
TZNAME:CDT
DTSTART:20260308T080000
END:DAYLIGHT
BEGIN:STANDARD
TZOFFSETFROM:-0500
TZOFFSETTO:-0600
TZNAME:CST
DTSTART:20261101T070000
END:STANDARD
BEGIN:DAYLIGHT
TZOFFSETFROM:-0600
TZOFFSETTO:-0500
TZNAME:CDT
DTSTART:20270314T080000
END:DAYLIGHT
BEGIN:STANDARD
TZOFFSETFROM:-0500
TZOFFSETTO:-0600
TZNAME:CST
DTSTART:20271107T070000
END:STANDARD
END:VTIMEZONE
BEGIN:VEVENT
DTSTART;TZID=America/Chicago:20260316T193000
DTEND;TZID=America/Chicago:20260316T210000
DTSTAMP:20260421T102655
CREATED:20260304T195658Z
LAST-MODIFIED:20260316T210035Z
UID:10000228-1773689400-1773694800@theunderstudy.com
SUMMARY:Again and Again and Again: on writing and reflection
DESCRIPTION:A prose-based generative writing workshop hosted by Tori Rego and Taylor Thornburg.\n\n\n“Again and Again and Again: On Writing and Reflection” is a prose-based generative writing workshop hosted by Tori Rego and Taylor Thornburg. Participants will study excerpts of fiction and nonfiction works fixated on memory\, recollection\, and narrative form\, including Vladimir Nabokov’s Speak Memory\, Marcel Proust’s In Search of Lost Time\, and Taylor Thornburg’s Agathe: 6:00pm to 7:27. Workshop participants will be led through a series of writing prompts to probe their own memories in search of weaving new stories that interlace the past\, the present\, and all the spaces inbetween.
URL:https://theunderstudy.com/event/again-and-again-and-again-on-writing-and-reflection/
LOCATION:The Understudy Coffee and Books\, 5531 N Clark St\, Chicago\, IL\, 60640\, United States
ATTACH;FMTTYPE=image/jpeg:https://theunderstudy.com/wp-content/uploads/2026/03/c555d4b828974b68eaee4672db2e0dfc-N97314.tmp_.jpg
END:VEVENT
END:VCALENDAR